BEGIN:VCALENDAR
VERSION:2.0
PRODID:-//Kipepeo School - ECPv6.13.2.1//NONSGML v1.0//EN
CALSCALE:GREGORIAN
METHOD:PUBLISH
X-WR-CALNAME:Kipepeo School
X-ORIGINAL-URL:https://dev-b.kipepeoschool.org
X-WR-CALDESC:Events for Kipepeo School
REFRESH-INTERVAL;VALUE=DURATION:PT1H
X-Robots-Tag:noindex
X-PUBLISHED-TTL:PT1H
BEGIN:VTIMEZONE
TZID:Europe/Moscow
BEGIN:STANDARD
TZOFFSETFROM:+0300
TZOFFSETTO:+0300
TZNAME:MSK
DTSTART:20240101T000000
END:STANDARD
END:VTIMEZONE
BEGIN:VEVENT
DTSTART;TZID=Europe/Moscow:20240328T110000
DTEND;TZID=Europe/Moscow:20240328T130000
DTSTAMP:20260424T185858
CREATED:20240113T084323Z
LAST-MODIFIED:20240113T084323Z
UID:3166-1711623600-1711630800@dev-b.kipepeoschool.org
SUMMARY:2nd Term Closing Assembly
DESCRIPTION:A 2nd Term Closing Assembly typically marks the end of the second academic term or semester in a school or educational institution. This event is organized to celebrate and acknowledge the achievements\, progress\, and efforts of students\, teachers\, and staff during the specific term. The assembly may include various elements\, and its format can vary depending on the educational institution’s traditions and preferences. Here is a general description of what might take place during a 2nd Term Closing Assembly:
URL:https://dev-b.kipepeoschool.org/event/2nd-term-closing-assembly/
LOCATION:Kipepeo school\, Maragoli Avenue\, Milimani.\, Nakuru\, Nakuru\, 20100\, Kenya
CATEGORIES:Graduation
ATTACH;FMTTYPE=image/jpeg:https://dev-b.kipepeoschool.org/wp-content/uploads/2024/01/closing.jpg
ORGANIZER;CN="Kipepeo Schools":MAILTO:info@kipepeoschool.org
END:VEVENT
END:VCALENDAR